BEGIN:VCALENDAR
VERSION:2.0
PRODID:-//UNIDROIT - ECPv6.15.20//NONSGML v1.0//EN
CALSCALE:GREGORIAN
METHOD:PUBLISH
X-ORIGINAL-URL:https://www.unidroit.org
X-WR-CALDESC:Events for UNIDROIT
REFRESH-INTERVAL;VALUE=DURATION:PT1H
X-Robots-Tag:noindex
X-PUBLISHED-TTL:PT1H
BEGIN:VTIMEZONE
TZID:Europe/Rome
BEGIN:DAYLIGHT
TZOFFSETFROM:+0100
TZOFFSETTO:+0200
TZNAME:CEST
DTSTART:20250330T010000
END:DAYLIGHT
BEGIN:STANDARD
TZOFFSETFROM:+0200
TZOFFSETTO:+0100
TZNAME:CET
DTSTART:20251026T010000
END:STANDARD
BEGIN:DAYLIGHT
TZOFFSETFROM:+0100
TZOFFSETTO:+0200
TZNAME:CEST
DTSTART:20260329T010000
END:DAYLIGHT
BEGIN:STANDARD
TZOFFSETFROM:+0200
TZOFFSETTO:+0100
TZNAME:CET
DTSTART:20261025T010000
END:STANDARD
BEGIN:DAYLIGHT
TZOFFSETFROM:+0100
TZOFFSETTO:+0200
TZNAME:CEST
DTSTART:20270328T010000
END:DAYLIGHT
BEGIN:STANDARD
TZOFFSETFROM:+0200
TZOFFSETTO:+0100
TZNAME:CET
DTSTART:20271031T010000
END:STANDARD
END:VTIMEZONE
BEGIN:VEVENT
DTSTART;VALUE=DATE:20260513
DTEND;VALUE=DATE:20260514
DTSTAMP:20260425T170204
CREATED:20251222T202643Z
LAST-MODIFIED:20260209T081120Z
UID:36644-1778630400-1778716799@www.unidroit.org
SUMMARY:Opening Plenary Event  (Codeway Expo\, Rome)
DESCRIPTION:UNIDROIT will feature as part of the opening plenary event of Codeway Expo in Rome. The event within the framework of this important international fair hosted by the Directorate for Cooperation and Development of the Italian Ministry of Foreign Affairs will showcase UNIDROIT’s most successful projects that are dedicated to the world of international development and cooperation.
URL:https://www.unidroit.org/event/opening-plenary-event-codeway-expo-rome/
LOCATION:Rome
CATEGORIES:Centenary
END:VEVENT
BEGIN:VEVENT
DTSTART;VALUE=DATE:20260525
DTEND;VALUE=DATE:20260527
DTSTAMP:20260425T170204
CREATED:20251222T202728Z
LAST-MODIFIED:20260209T082122Z
UID:36642-1779667200-1779839999@www.unidroit.org
SUMMARY:International Conference on Transnational Law and Cooperation of International Organisations
DESCRIPTION:As an opening event for the 107th session of the Governing Council\, this Workshop will involve the members of the International Partnerships Committee and shall therefore be chaired accordingly.
URL:https://www.unidroit.org/event/international-workshop-on-transnational-law-and-cooperation-of-international-organisations/
LOCATION:UNIDROIT
CATEGORIES:Centenary
END:VEVENT
END:VCALENDAR