BEGIN:VCALENDAR
VERSION:2.0
PRODID:-//UNIDROIT - ECPv6.15.20//NONSGML v1.0//EN
CALSCALE:GREGORIAN
METHOD:PUBLISH
X-WR-CALNAME:UNIDROIT
X-ORIGINAL-URL:https://www.unidroit.org
X-WR-CALDESC:Events for UNIDROIT
REFRESH-INTERVAL;VALUE=DURATION:PT1H
X-Robots-Tag:noindex
X-PUBLISHED-TTL:PT1H
BEGIN:VTIMEZONE
TZID:Europe/Rome
BEGIN:DAYLIGHT
TZOFFSETFROM:+0100
TZOFFSETTO:+0200
TZNAME:CEST
DTSTART:20250330T010000
END:DAYLIGHT
BEGIN:STANDARD
TZOFFSETFROM:+0200
TZOFFSETTO:+0100
TZNAME:CET
DTSTART:20251026T010000
END:STANDARD
BEGIN:DAYLIGHT
TZOFFSETFROM:+0100
TZOFFSETTO:+0200
TZNAME:CEST
DTSTART:20260329T010000
END:DAYLIGHT
BEGIN:STANDARD
TZOFFSETFROM:+0200
TZOFFSETTO:+0100
TZNAME:CET
DTSTART:20261025T010000
END:STANDARD
BEGIN:DAYLIGHT
TZOFFSETFROM:+0100
TZOFFSETTO:+0200
TZNAME:CEST
DTSTART:20270328T010000
END:DAYLIGHT
BEGIN:STANDARD
TZOFFSETFROM:+0200
TZOFFSETTO:+0100
TZNAME:CET
DTSTART:20271031T010000
END:STANDARD
END:VTIMEZONE
BEGIN:VEVENT
DTSTART;VALUE=DATE:20260911
DTEND;VALUE=DATE:20260912
DTSTAMP:20260425T215726
CREATED:20260114T143605Z
LAST-MODIFIED:20260209T081324Z
UID:37688-1789084800-1789171199@www.unidroit.org
SUMMARY:Financial Markets and Technology Workstream Workshop
DESCRIPTION:Tasked with drafting a White Paper on UNIDROIT’s future strategy in the field\, the Financial Markets and Technology Workstream Committee is scheduled to meet in Rome for its last meeting leading to the final discussion in the joint session of the Governing Council and General Assembly in December. \nParticipation in the Financial Markets and Technology Workstream Workshop is limited to invited participants. Further information will be made available in due course.
URL:https://www.unidroit.org/event/financial-markets-and-technology/
LOCATION:UNIDROIT & Zoom
CATEGORIES:Capital Markets,Centenary
END:VEVENT
END:VCALENDAR