BEGIN:VCALENDAR
VERSION:2.0
PRODID:-//UNIDROIT - ECPv6.15.20//NONSGML v1.0//EN
CALSCALE:GREGORIAN
METHOD:PUBLISH
X-ORIGINAL-URL:https://www.unidroit.org
X-WR-CALDESC:Events for UNIDROIT
REFRESH-INTERVAL;VALUE=DURATION:PT1H
X-Robots-Tag:noindex
X-PUBLISHED-TTL:PT1H
BEGIN:VTIMEZONE
TZID:Europe/Rome
BEGIN:DAYLIGHT
TZOFFSETFROM:+0100
TZOFFSETTO:+0200
TZNAME:CEST
DTSTART:20250330T010000
END:DAYLIGHT
BEGIN:STANDARD
TZOFFSETFROM:+0200
TZOFFSETTO:+0100
TZNAME:CET
DTSTART:20251026T010000
END:STANDARD
BEGIN:DAYLIGHT
TZOFFSETFROM:+0100
TZOFFSETTO:+0200
TZNAME:CEST
DTSTART:20260329T010000
END:DAYLIGHT
BEGIN:STANDARD
TZOFFSETFROM:+0200
TZOFFSETTO:+0100
TZNAME:CET
DTSTART:20261025T010000
END:STANDARD
BEGIN:DAYLIGHT
TZOFFSETFROM:+0100
TZOFFSETTO:+0200
TZNAME:CEST
DTSTART:20270328T010000
END:DAYLIGHT
BEGIN:STANDARD
TZOFFSETFROM:+0200
TZOFFSETTO:+0100
TZNAME:CET
DTSTART:20271031T010000
END:STANDARD
END:VTIMEZONE
BEGIN:VEVENT
DTSTART;VALUE=DATE:20260925
DTEND;VALUE=DATE:20260926
DTSTAMP:20260425T215812
CREATED:20260213T095804Z
LAST-MODIFIED:20260213T100105Z
UID:38409-1790294400-1790380799@www.unidroit.org
SUMMARY:Access to Credit Workshop\, 25 September\, University of Cambridge
DESCRIPTION:Tasked with drafting a Whitepaper on UNIDROIT’s future strategy in the field\, the Access to Credit Workstream Committee is scheduled to meet in Cambridge for its last meeting leading to the final discussion in the joint session of the Governing Council and General Assembly in December.
URL:https://www.unidroit.org/event/access-to-credit-workshop-25-september-university-of-cambridge-tasked-with-drafting-a-whitepaper-on-unidroits-future-strategy-in-the-field-the-access-to-credit-workstream-committee-is-sch/
LOCATION:Cambridge\, UK
CATEGORIES:Centenary
END:VEVENT
END:VCALENDAR