BEGIN:VCALENDAR
VERSION:2.0
PRODID:-//UNIDROIT - ECPv6.15.20//NONSGML v1.0//EN
CALSCALE:GREGORIAN
METHOD:PUBLISH
X-ORIGINAL-URL:https://www.unidroit.org
X-WR-CALDESC:Events for UNIDROIT
REFRESH-INTERVAL;VALUE=DURATION:PT1H
X-Robots-Tag:noindex
X-PUBLISHED-TTL:PT1H
BEGIN:VTIMEZONE
TZID:Europe/Rome
BEGIN:DAYLIGHT
TZOFFSETFROM:+0100
TZOFFSETTO:+0200
TZNAME:CEST
DTSTART:20210328T010000
END:DAYLIGHT
BEGIN:STANDARD
TZOFFSETFROM:+0200
TZOFFSETTO:+0100
TZNAME:CET
DTSTART:20211031T010000
END:STANDARD
BEGIN:DAYLIGHT
TZOFFSETFROM:+0100
TZOFFSETTO:+0200
TZNAME:CEST
DTSTART:20220327T010000
END:DAYLIGHT
BEGIN:STANDARD
TZOFFSETFROM:+0200
TZOFFSETTO:+0100
TZNAME:CET
DTSTART:20221030T010000
END:STANDARD
BEGIN:DAYLIGHT
TZOFFSETFROM:+0100
TZOFFSETTO:+0200
TZNAME:CEST
DTSTART:20230326T010000
END:DAYLIGHT
BEGIN:STANDARD
TZOFFSETFROM:+0200
TZOFFSETTO:+0100
TZNAME:CET
DTSTART:20231029T010000
END:STANDARD
END:VTIMEZONE
BEGIN:VEVENT
DTSTART;VALUE=DATE:20221006
DTEND;VALUE=DATE:20221008
DTSTAMP:20260426T040350
CREATED:20220914T094152Z
LAST-MODIFIED:20220914T094152Z
UID:17019-1665014400-1665187199@www.unidroit.org
SUMMARY:13th Transnational Commercial Law Teachers’ Meeting
DESCRIPTION:UNIDROIT is delighted to host the 13th Transnational Commercial Law Teachers’ Meeting in Rome on 6-7 October 2022. Kindly note that this event is invitation only. Please write to tcl2022rome@unidroit.org for further information. \n 
URL:https://www.unidroit.org/event/13th-transnational-commercial-law-teachers-meeting/
LOCATION:UNIDROIT
CATEGORIES:Events,Unidroit Academy
END:VEVENT
END:VCALENDAR