BEGIN:VCALENDAR
VERSION:2.0
PRODID:-//UNIDROIT - ECPv6.15.20//NONSGML v1.0//EN
CALSCALE:GREGORIAN
METHOD:PUBLISH
X-WR-CALNAME:UNIDROIT
X-ORIGINAL-URL:https://www.unidroit.org
X-WR-CALDESC:Events for UNIDROIT
REFRESH-INTERVAL;VALUE=DURATION:PT1H
X-Robots-Tag:noindex
X-PUBLISHED-TTL:PT1H
BEGIN:VTIMEZONE
TZID:Europe/Rome
BEGIN:DAYLIGHT
TZOFFSETFROM:+0100
TZOFFSETTO:+0200
TZNAME:CEST
DTSTART:20230326T010000
END:DAYLIGHT
BEGIN:STANDARD
TZOFFSETFROM:+0200
TZOFFSETTO:+0100
TZNAME:CET
DTSTART:20231029T010000
END:STANDARD
BEGIN:DAYLIGHT
TZOFFSETFROM:+0100
TZOFFSETTO:+0200
TZNAME:CEST
DTSTART:20240331T010000
END:DAYLIGHT
BEGIN:STANDARD
TZOFFSETFROM:+0200
TZOFFSETTO:+0100
TZNAME:CET
DTSTART:20241027T010000
END:STANDARD
BEGIN:DAYLIGHT
TZOFFSETFROM:+0100
TZOFFSETTO:+0200
TZNAME:CEST
DTSTART:20250330T010000
END:DAYLIGHT
BEGIN:STANDARD
TZOFFSETFROM:+0200
TZOFFSETTO:+0100
TZNAME:CET
DTSTART:20251026T010000
END:STANDARD
END:VTIMEZONE
BEGIN:VEVENT
DTSTART;TZID=Europe/Rome:20241127T160000
DTEND;TZID=Europe/Rome:20241127T190000
DTSTAMP:20260422T075109
CREATED:20241111T193942Z
LAST-MODIFIED:20241111T193942Z
UID:29350-1732723200-1732734000@www.unidroit.org
SUMMARY:Franco Cordero - l’uomo attraverso la sua collezione di libri
DESCRIPTION:Evento 27 novembre 2024 Franco Cordero - l’uomo attraverso la sua collezione di libri-2(1)
URL:https://www.unidroit.org/event/franco-cordero-luomo-attraverso-la-sua-collezione-di-libri/
LOCATION:UNIDROIT
CATEGORIES:Unidroit Academy
END:VEVENT
END:VCALENDAR