BEGIN:VCALENDAR
VERSION:2.0
PRODID:-//Unidroit - ECPv6.15.20//NONSGML v1.0//EN
CALSCALE:GREGORIAN
METHOD:PUBLISH
X-WR-CALNAME:Unidroit
X-ORIGINAL-URL:https://www.unidroit.org/fr/
X-WR-CALDESC:Évènements pour Unidroit
REFRESH-INTERVAL;VALUE=DURATION:PT1H
X-Robots-Tag:noindex
X-PUBLISHED-TTL:PT1H
BEGIN:VTIMEZONE
TZID:Europe/Rome
BEGIN:DAYLIGHT
TZOFFSETFROM:+0100
TZOFFSETTO:+0200
TZNAME:CEST
DTSTART:20250330T010000
END:DAYLIGHT
BEGIN:STANDARD
TZOFFSETFROM:+0200
TZOFFSETTO:+0100
TZNAME:CET
DTSTART:20251026T010000
END:STANDARD
BEGIN:DAYLIGHT
TZOFFSETFROM:+0100
TZOFFSETTO:+0200
TZNAME:CEST
DTSTART:20260329T010000
END:DAYLIGHT
BEGIN:STANDARD
TZOFFSETFROM:+0200
TZOFFSETTO:+0100
TZNAME:CET
DTSTART:20261025T010000
END:STANDARD
BEGIN:DAYLIGHT
TZOFFSETFROM:+0100
TZOFFSETTO:+0200
TZNAME:CEST
DTSTART:20270328T010000
END:DAYLIGHT
BEGIN:STANDARD
TZOFFSETFROM:+0200
TZOFFSETTO:+0100
TZNAME:CET
DTSTART:20271031T010000
END:STANDARD
END:VTIMEZONE
BEGIN:VEVENT
DTSTART;TZID=Europe/Rome:20260420T180000
DTEND;TZID=Europe/Rome:20260420T180000
DTSTAMP:20260420T015856
CREATED:20260126T102807Z
LAST-MODIFIED:20260212T154055Z
UID:37942-1776708000-1776708000@www.unidroit.org
SUMMARY:Ouverture du Centenaire
DESCRIPTION:Cérémonie d’ouverture du Centenaire\, le 20 avril à 18 h à UNIDROIT: cet événement marquera l’ouverture officielle du Centenaire\, cent ans après la fondation de l’Institut. Il sera ponctué de discours prononcés par les organes directeurs de l’Institut ainsi que par des représentants du milieu universitaire\, du pouvoir judiciaire\, de la profession juridique et autres. De plus\, cette soirée sera l’occasion de célébrer l’inauguration des Archives historiques de l’Institut\, accompagnée d’une petite exposition présentant les documents fondateurs et aux archives photographiques historiques.
URL:https://www.unidroit.org/fr/event/ouverture-du-centenaire/
LOCATION:UNIDROIT
CATEGORIES:Centenary
END:VEVENT
END:VCALENDAR