BEGIN:VCALENDAR
VERSION:2.0
PRODID:-//Unidroit - ECPv6.15.20//NONSGML v1.0//EN
CALSCALE:GREGORIAN
METHOD:PUBLISH
X-WR-CALNAME:Unidroit
X-ORIGINAL-URL:https://www.unidroit.org/fr/
X-WR-CALDESC:Évènements pour Unidroit
REFRESH-INTERVAL;VALUE=DURATION:PT1H
X-Robots-Tag:noindex
X-PUBLISHED-TTL:PT1H
BEGIN:VTIMEZONE
TZID:Europe/Rome
BEGIN:DAYLIGHT
TZOFFSETFROM:+0100
TZOFFSETTO:+0200
TZNAME:CEST
DTSTART:20220327T010000
END:DAYLIGHT
BEGIN:STANDARD
TZOFFSETFROM:+0200
TZOFFSETTO:+0100
TZNAME:CET
DTSTART:20221030T010000
END:STANDARD
BEGIN:DAYLIGHT
TZOFFSETFROM:+0100
TZOFFSETTO:+0200
TZNAME:CEST
DTSTART:20230326T010000
END:DAYLIGHT
BEGIN:STANDARD
TZOFFSETFROM:+0200
TZOFFSETTO:+0100
TZNAME:CET
DTSTART:20231029T010000
END:STANDARD
BEGIN:DAYLIGHT
TZOFFSETFROM:+0100
TZOFFSETTO:+0200
TZNAME:CEST
DTSTART:20240331T010000
END:DAYLIGHT
BEGIN:STANDARD
TZOFFSETFROM:+0200
TZOFFSETTO:+0100
TZNAME:CET
DTSTART:20241027T010000
END:STANDARD
END:VTIMEZONE
BEGIN:VEVENT
DTSTART;VALUE=DATE:20231113
DTEND;VALUE=DATE:20231116
DTSTAMP:20260422T184530
CREATED:20230810T173734Z
LAST-MODIFIED:20231019T131933Z
UID:22658-1699833600-1700092799@www.unidroit.org
SUMMARY:1ère session du Groupe de travail sur la Loi type sur les récépissés d’entrepôt (Guide pour l’incorporation)
DESCRIPTION:
URL:https://www.unidroit.org/fr/event/1ere-session-du-groupe-de-travail-sur-la-loi-type-sur-les-recepisses-dentrepot-guide-pour-lincorporation/
LOCATION:UNIDROIT
CATEGORIES:Warehouse Receipts
END:VEVENT
END:VCALENDAR